BEGIN:VCALENDAR
VERSION:2.0
PRODID:-//Squarespace Inc/Squarespace 6//v6//EN
BEGIN:VEVENT
UID:592546ade4fcb547f68679c2@squarespace.com
DTSTAMP:20170524T084257Z
DTSTART:20160606T213000Z
DTEND:20160608T230000Z
SUMMARY:BTW Networking Event - Keynote Speaker 
END:VEVENT
END:VCALENDAR
