BEGIN:VCALENDAR
VERSION:2.0
PRODID:-//Squarespace Inc/Squarespace 6//v6//EN
BEGIN:VEVENT
UID:592518b1e4fcb547f6850578@squarespace.com
DTSTAMP:20170524T084803Z
DTSTART:20170223T133000Z
DTEND:20170224T200000Z
SUMMARY:Rolleston School - Yr 7 & 8 'Closing the Gap' Personal Leadership P
 rogramme 
END:VEVENT
END:VCALENDAR
