BEGIN:VCALENDAR
VERSION:2.0
PRODID:-//Squarespace Inc/Squarespace 6//v6//EN
BEGIN:VEVENT
UID:58c8fbb7d482e94a3a587ccf@squarespace.com
DTSTAMP:20170524T050340Z
DTSTART:20170519T120000Z
DTEND:20170519T190000Z
SUMMARY:Rolleston School Follow Up
END:VEVENT
END:VCALENDAR
