BEGIN:VCALENDAR
VERSION:2.0
PRODID:-//Squarespace Inc/Squarespace 6//v6//EN
BEGIN:VEVENT
UID:592514ca725e253e37094b77@squarespace.com
DTSTAMP:20170524T084917Z
DTSTART:20170518T123000Z
DTEND:20170518T143000Z
SUMMARY:Tauranga Primary School - Closing the Gap
END:VEVENT
END:VCALENDAR
