BEGIN:VCALENDAR
VERSION:2.0
PRODID:-//Squarespace Inc/Squarespace 6//v6//EN
BEGIN:VEVENT
UID:592517043a0411cb6f08b13f@squarespace.com
DTSTAMP:20170524T083612Z
DTSTART:20170528T213000Z
DTEND:20170529T003000Z
SUMMARY:Tauranga Triathlon Club - Prize Giving - M.C
END:VEVENT
END:VCALENDAR
